0.01137333722838
0.00000000000000
0.00000000000000
-0.00900941415889
41.18237771096169
36.18182366581082
