0.00568530270093
0.00000000000000
0.00000000000000
-0.00450472069767
41.84034414531079
35.38185577666102
