0.01064552782951
0.00000000000000
0.00000000000000
-0.00901743459510
44.81813542718584
32.72993334544866
